BEGIN:VCALENDAR
VERSION:2.0
PRODID:-//Sigtunastiftelsen - ECPv4.6.25//NONSGML v1.0//EN
CALSCALE:GREGORIAN
METHOD:PUBLISH
X-WR-CALNAME:Sigtunastiftelsen
X-ORIGINAL-URL:https://sigtunastiftelsen.se
X-WR-CALDESC:Events for Sigtunastiftelsen
BEGIN:VEVENT
DTSTART;TZID=UTC+1:20260309T190000
DTEND;TZID=UTC+1:20260309T200000
DTSTAMP:20260422T225837
CREATED:20251217T102421Z
LAST-MODIFIED:20260324T114659Z
UID:46752-1773082800-1773086400@sigtunastiftelsen.se
SUMMARY:Parker på Enköpingska
DESCRIPTION:Enköping har blivit berömt för sina vackra parker som utvecklats sedan 1980-talet med stadsträdgårdsmästare Stefan Mattson som visionär pionjär. Nuvarande stadsträdgårdsmästaren Anna-Karin Gävert berättar om förvaltningen och utvecklingen av Mattsons arv som inkluderar såväl Enköpings uppskattade fickparker som den fantastiska Drömparken gestaltad av den holländska trädgårdsdesignern Piet Oudolf. Oudolf är en av världens främsta trädgårdsdesigners som skapat trädgårdarna vid The High Line i New York\, restaurang Noma i Köpenhamn och senast på konstmuseet Vandalorum i Värnamo – men Drömparken i Enköping var först. \nOudolfs gestaltning\, som inspirerat Gävert\, grundar sig i estetik\, hållbarhet och ekologisk mångfald med inspiration från naturliga\, vilda landskap. Oudolf arbetar med en odlingsdesign med mycket perenner – New Perennial Movement – som är dynamiskt förankrade i platsen\, kulturmiljön\, naturen omkring och med årstiderna. Drömparken blev utnämnd till byggnadsminne år 2025\, som första parkmiljö i Uppsala län. Stadsträdgårdsmästare Anna-Karin Gävert berättar om mötet mellan parkarvet\, nutid och framtid. \nTraditionsenligt öppnar vi denna dag vårt Fröbibliotek i lokal samverkan med Sigtuna trädgårdsförening. Alla är välkomna att låna lokala\, återbrukade fröer samt odlingslitteratur. \nEntré: 100 kr ( 50 kr för medlemmar i Sigtuna trädgårdsförening) \nSamverkan med Sigtuna trädgårdsförening  \nBoka gärna en kulturmacka eller en tidig middag i vår restaurang i samband med evenemanget. Restaurangen öppnar 17.00 www.sigtunastftelsen.se ”BOKA BORD” \n
URL:https://sigtunastiftelsen.se/events/parker-pa-enkopingska/
LOCATION:Sigtunastiftelsen\, Manfred Björkquists allé 4\, Sigtuna\, Sigtuna\, 193 31
CATEGORIES:Kultur & Bildning
ATTACH;FMTTYPE=image/jpeg:https://sigtunastiftelsen.se/wp-content/uploads/2025/12/Foto-Magnus-Aronson-250.jpg
ORGANIZER;CN="Sigtunastiftelsen":MAILTO:info@sigtunastiftelsen.se
END:VEVENT
END:VCALENDAR