BEGIN:VCALENDAR
VERSION:2.0
PRODID:-//Sigtunastiftelsen - ECPv4.6.25//NONSGML v1.0//EN
CALSCALE:GREGORIAN
METHOD:PUBLISH
X-WR-CALNAME:Sigtunastiftelsen
X-ORIGINAL-URL:https://sigtunastiftelsen.se
X-WR-CALDESC:Events for Sigtunastiftelsen
BEGIN:VEVENT
DTSTART;TZID=UTC+1:20260307T143000
DTEND;TZID=UTC+1:20260307T153000
DTSTAMP:20260422T230146
CREATED:20251217T101256Z
LAST-MODIFIED:20260225T152808Z
UID:46748-1772893800-1772897400@sigtunastiftelsen.se
SUMMARY:Presentation av konstutställning: I lungornas oscillerande rörelse
DESCRIPTION:Sigtunastiftelsens kaplan Kerstin Dillmar\, präst och författare\, presenterar i samband med kulturhelgen Evelina Dovstens pågående konstutställning I lungornas oscillerande rörelse\, hennes mest existentiellt laddade utställning hittills\, där ett sakralt allvar möter en vetenskaplig estetik. Verkens motiv tar sin utgångspunkt i former av oscillerande rörelser hos människan: andning och hjärtslag. En upprepning och rytm som även återfinns i teorier om solstormar samt svarta och vita håls svängningsrörelser. \nMed en bakgrund som glasblåsare arbetar Evelina Dovsten huvudsakligen i glas samt assemblageteknik. Hon använder sig av friblåst glas\, som kräver ett snabbt handlande\, i kombination med en långsammare process bestående av slipat och graverat planglas\, målade träytor och text. Materialet blir till en samtalspartner och laddas genom skapandeprocessen med tid\, närvaro och hantverkets tysta kunskap. \nGenomgående verkar Evelina Dovsten för att upphöja och påpeka tyst kunskap som tema. Genom att bevara och samla kunskaper i materiell form vill hon stimulera till eftertanke kring hur kunskap kan bevaras och ges vidare. I hennes arbete länkas praktiska och teoretiska kunskaper samman. Verken kan ses som avtryck och porträtt av hur konstnären uppfattar livet och verkligheten; av en människas ihärdiga sökande och strävan efter att vilja förstå något bortom det greppbara. \nEvelina Dovsten (f. 1987) är utbildad vid Konstfack i Stockholm och har ateljé i G-studion\, Gustavsberg. Hon är medskapare av Konsthantverkspodden. Hennes konst har visats på bland annat Röhsska museet\, Arkdes samt Vår Gård Saltsjöbaden och finns representerad i Nationalmuseums samlingar. Tillsammans med Andreas Nobel har hon skrivit boken Den Moderna Sfinxen (Otsium books)\, och 2024 färdigställde hon sin första offentliga gestaltning för entrén till Värmdö kommuns nya kulturhus och bibliotek. \nBoka gärna bord för lunch i vår restaurang före evenemanget.\nwww.sigtunastiftelsen.se ”BOKA BORD” Välkomna! \n
URL:https://sigtunastiftelsen.se/events/presentation-av-konstutstallning-evelina-dovsten-i-lungornas-oscillerande-rorelse/
LOCATION:Sigtunastiftelsen\, Manfred Björkquists allé 4\, Sigtuna\, Sigtuna\, 193 31
CATEGORIES:Kultur & Bildning
ATTACH;FMTTYPE=image/jpeg:https://sigtunastiftelsen.se/wp-content/uploads/2025/12/dovsten250.jpg
ORGANIZER;CN="Sigtunastiftelsen":MAILTO:info@sigtunastiftelsen.se
END:VEVENT
END:VCALENDAR