BEGIN:VCALENDAR
VERSION:2.0
PRODID:-//Sigtunastiftelsen - ECPv4.6.25//NONSGML v1.0//EN
CALSCALE:GREGORIAN
METHOD:PUBLISH
X-WR-CALNAME:Sigtunastiftelsen
X-ORIGINAL-URL:https://sigtunastiftelsen.se
X-WR-CALDESC:Events for Sigtunastiftelsen
BEGIN:VEVENT
DTSTART;TZID=UTC+1:20260410T170000
DTEND;TZID=UTC+1:20260412T153000
DTSTAMP:20260420T122138
CREATED:20251217T131221Z
LAST-MODIFIED:20260305T104645Z
UID:46811-1775840400-1776007800@sigtunastiftelsen.se
SUMMARY:Retreat: Vila i din längtan
DESCRIPTION:Retreaten är fullbokad! \nVälkommen till retreat på Sigtunastiftelsen\, en helg i stillhet och tystnad. Vila i din längtan är en Ignatianskt inspirerad tyst retreat där fördjupande samtal med en följeslagare ingår. Utvalda bibeltexter blir en utgångspunkt för personlig reflektion över vad som ger oss liv och riktning i tillvaron. \nRetreatledare: Cia Wadstein\, präst\, Inga-May Petersson\, diakon\, Lena Denke\, diakon samt Lena Bergcoutts\, diakon. \n
URL:https://sigtunastiftelsen.se/events/retreat-vila-i-din-langtan/
LOCATION:Sigtunastiftelsen\, Manfred Björkquists allé 4\, Sigtuna\, Sigtuna\, 193 31
CATEGORIES:Retreater & Samtal
ATTACH;FMTTYPE=image/jpeg:https://sigtunastiftelsen.se/wp-content/uploads/2023/01/valvet-var-2-Aronsson.jpgx250.jpg
ORGANIZER;CN="Sigtunastiftelsen":MAILTO:info@sigtunastiftelsen.se
END:VEVENT
END:VCALENDAR