BEGIN:VCALENDAR
VERSION:2.0
PRODID:-//Sigtunastiftelsen - ECPv4.6.25//NONSGML v1.0//EN
CALSCALE:GREGORIAN
METHOD:PUBLISH
X-WR-CALNAME:Sigtunastiftelsen
X-ORIGINAL-URL:https://sigtunastiftelsen.se
X-WR-CALDESC:Events for Sigtunastiftelsen
BEGIN:VEVENT
DTSTART;TZID=UTC+1:20251007T190000
DTEND;TZID=UTC+1:20251007T210000
DTSTAMP:20260422T205643
CREATED:20250623T085844Z
LAST-MODIFIED:20251124T075035Z
UID:40050-1759863600-1759870800@sigtunastiftelsen.se
SUMMARY:Rörelser– Av och med regissören Jon Blåhed
DESCRIPTION:Den yttersta dagen närmar sig. Är du en av de utvalda? Det är 1930-tal och en karismatisk predikant trollbinder byborna under sina väckelsemöten i Tornedalen. Bland hans anhängare finns läraren Rakel och hennes man Teodor\, strikt troende laestadianer. Efter att ha fått en uppenbarelse tar Teodor över som rörelsens ledare och börjar styra den i en oroväckande riktning. Det blir en accelererande färd in i mörkret som tvingar Rakel att välja sida. Berättelsen om Nordens mest mytomspunna väckelserörelse korpelarörelsen är en historia som balanserar på gränsen mellan drama och thriller. Filmen har hyllats för sitt foto\, scenografi och skådespeleri och prisats internationellt. Den är den första spelfilmen på minoritetsspråket meänkieli och är baserad på Bengt Pohjanens roman Dagning; röd! (1988). \nRegissören Jon Blåhed kommer själv från Tornedalen och har ägnat åtta år att skapa filmen. Han har velat bryta tystnaden kring denna historiska händelse med tidlösa frågeställningar kring mening och bekräftelse\, sekterism och social befrielse. \nJon Blåhed introducerar filmen och medverkar i samtalet. \n \n  \n
URL:https://sigtunastiftelsen.se/events/rorelser/
LOCATION:Biograf Gröna Ladan i Sigtuna\, Gröna ladan\, Gröna gränd 6\, Sigtuna\, Sverige
CATEGORIES:Film
ATTACH;FMTTYPE=image/jpeg:https://sigtunastiftelsen.se/wp-content/uploads/2025/06/Jon-Blahed_manus-regi_Rorelser_foto_Jimmy-Sundin.250jpg.jpg
ORGANIZER;CN="Sigtunastiftelsen":MAILTO:info@sigtunastiftelsen.se
END:VEVENT
END:VCALENDAR