BEGIN:VCALENDAR
VERSION:2.0
PRODID:-//Sigtunastiftelsen - ECPv4.6.25//NONSGML v1.0//EN
CALSCALE:GREGORIAN
METHOD:PUBLISH
X-WR-CALNAME:Sigtunastiftelsen
X-ORIGINAL-URL:https://sigtunastiftelsen.se
X-WR-CALDESC:Events for Sigtunastiftelsen
BEGIN:VEVENT
DTSTART;TZID=UTC+1:20250624T100000
DTEND;TZID=UTC+1:20250710T110000
DTSTAMP:20260422T225831
CREATED:20250612T084619Z
LAST-MODIFIED:20250710T113952Z
UID:39727-1750759200-1752145200@sigtunastiftelsen.se
SUMMARY:Sagostund i biblioteket
DESCRIPTION:I sommar erbjuder vi sagostund i biblioteket vid 6 tillfällen under juni och juli\, en mysig sommaraktivitet för hela familjen. Sagostunden inleds med fika från klockan 10.00 och därefter högläsning 10.30 – 11.00. \nFri entré! \nSommarens datum: \nTisdag 24 juni 10.00\nTorsdag 26 juni 10.00 \nTisdag 1 juli 10.00\nTorsdag 3 juli 10.00 \nTisdag 8 juli 10.00\nTorsdag 10 juli 10.00 \nFör större barngrupper maila gärna i förväg till bibliotek@sigtunastiftelsen.se så vi kan välkomna er på bästa sätt. \nSagostunden är ett samarbete mellan Sigtunastiftelsen och Handelsbanken för att främja barns och ungas läsande \n
URL:https://sigtunastiftelsen.se/events/sagostund-i-biblioteket/
LOCATION:Sigtunastiftelsen\, Manfred Björkquists allé 4\, Sigtuna\, Sigtuna\, 193 31
ATTACH;FMTTYPE=image/jpeg:https://sigtunastiftelsen.se/wp-content/uploads/2025/06/Alfonsfotagnesarnborg250x165jpg.jpg
ORGANIZER;CN="Sigtunastiftelsen":MAILTO:info@sigtunastiftelsen.se
END:VEVENT
END:VCALENDAR