BEGIN:VCALENDAR
VERSION:2.0
PRODID:-//Sigtunastiftelsen - ECPv4.6.25//NONSGML v1.0//EN
CALSCALE:GREGORIAN
METHOD:PUBLISH
X-WR-CALNAME:Sigtunastiftelsen
X-ORIGINAL-URL:https://sigtunastiftelsen.se
X-WR-CALDESC:Events for Sigtunastiftelsen
BEGIN:VEVENT
DTSTART;TZID=UTC+1:20211204T203000
DTEND;TZID=UTC+1:20211204T220000
DTSTAMP:20260420T122643
CREATED:20210815T070056Z
LAST-MODIFIED:20211206T075617Z
UID:14474-1638649800-1638655200@sigtunastiftelsen.se
SUMMARY:Sara Parkman & Hampus Norén
DESCRIPTION:Sara Parkman är folkmusiker\, kompositör\, tredje generationens prästbarn och violinist. 2016 släpptes det kritikerrosade debutalbumet Sara Parkmans skog där musiken beskrivs som ett lapptäcke av poesi\, grusvägar\, 80-talssyntar\, skogsdrömmar och flödande fioler. Sara har samarbetat med artister som Fever Ray\, Bob hund och Silvana Imam och skrivit och turnerat med Riksteaterns hyllade föreställningar Nationalparken och Fäboland. Under hösten 2018 framförde Sara och Samantha Ohlanders sin föreställning Matriarkerna och sommarpratade i P1 samma år. \nNu är Sara Parkman aktuell med sitt andra soloalbum Vesper\, ett album som tar avstamp i helighet och tradition\, i sakrala rum och sköra böner. Men Vesper är lika mycket en opolerad käftsmäll och ett upprop mot konservativ antispiritualism och neoliberalismens individuella new age-kapitalism. Det är träiga polskor på fioler\, hallelujakörer\, distade orglar\, skam och högmod\, vredesmod och ångestvrål. \nHelgens erbjudanden\nKonsert 150 kr\nKonsert och middag 650 kr FULLBOKAT\nKulturhelgspaket med helpension*: Del i dubbelrum 1 795 kr; enkelrum 1 995 kr \n* I kulturhelgpaketet ingår biljetter till lördagens konsert med Sara Parkman och söndagens författarmöte med Tomas Sjödin\, hotellövernattning lördag – söndag\, ankomstkaffe\, julbord\, frukost\, förmiddagskaffe och lunch. \n
URL:https://sigtunastiftelsen.se/events/sara-parkman/
LOCATION:Sigtunastiftelsen\, Manfred Björkquists allé 4\, Sigtuna\, Sigtuna\, 193 31
CATEGORIES:Mat & Dryck,Musik
ATTACH;FMTTYPE=image/jpeg:https://sigtunastiftelsen.se/wp-content/uploads/2020/12/Sara-Parkmanx250.jpg
ORGANIZER;CN="Sigtunastiftelsen":MAILTO:info@sigtunastiftelsen.se
END:VEVENT
END:VCALENDAR