BEGIN:VCALENDAR
VERSION:2.0
PRODID:-//Sigtunastiftelsen - ECPv4.6.25//NONSGML v1.0//EN
CALSCALE:GREGORIAN
METHOD:PUBLISH
X-WR-CALNAME:Sigtunastiftelsen
X-ORIGINAL-URL:https://sigtunastiftelsen.se
X-WR-CALDESC:Events for Sigtunastiftelsen
BEGIN:VEVENT
DTSTART;TZID=UTC+1:20180831T203000
DTEND;TZID=UTC+1:20180831T213000
DTSTAMP:20260424T232747
CREATED:20180712T103243Z
LAST-MODIFIED:20181015T121312Z
UID:604-1535747400-1535751000@sigtunastiftelsen.se
SUMMARY:SE Quartet
DESCRIPTION:SE-Quartet släppte i april 2017 albumet Going North och har nu över 2 miljoner uppspelningar på Spotify. Dessutom har radiostationer och tidningar i hela Norden uppmärksammat albumet som är kvartettens tredje release på bara fem år. Senare i höst är de inbjudna att spela på Stockholm Jazz festival. Kvartetten hämtar inspiration från många genrer som gospel\, avant-garde\, klassisk\, populärmusik och soul. Musiken fängslar med dess vackra melodier och energiska beats\, samt ett lyhört samspel med episka improvisationer. Musiken är egenkomponerad och med improvisationen som grund uttrycker kvartetten både energi och oförutsägbarhet liksom stillhet och eftertänksamhet.\nSE-Quartet består av: David Ehrlin\, sopran- och tenorsaxofon\, basklarinett\, Rasmus H Thomsen\, piano och didgeridoo\, Antti Ojala\, trummor och Martin Sundström\, kontrabas. \n
URL:https://sigtunastiftelsen.se/events/se-quartet/
LOCATION:Sigtunastiftelsen\, Manfred Björkquists allé 4\, Sigtuna\, Sigtuna\, 193 31
CATEGORIES:Musik
ATTACH;FMTTYPE=image/jpeg:https://sigtunastiftelsen.se/wp-content/uploads/2018/07/SE-Quartet-600x370.jpg
ORGANIZER;CN="Sigtunastiftelsen":MAILTO:info@sigtunastiftelsen.se
END:VEVENT
END:VCALENDAR