BEGIN:VCALENDAR
VERSION:2.0
PRODID:-//Sigtunastiftelsen - ECPv4.6.25//NONSGML v1.0//EN
CALSCALE:GREGORIAN
METHOD:PUBLISH
X-WR-CALNAME:Sigtunastiftelsen
X-ORIGINAL-URL:https://sigtunastiftelsen.se
X-WR-CALDESC:Events for Sigtunastiftelsen
BEGIN:VEVENT
DTSTART;TZID=UTC+1:20240919T180000
DTEND;TZID=UTC+1:20240919T200000
DTSTAMP:20260422T191954
CREATED:20240702T075145Z
LAST-MODIFIED:20241002T120621Z
UID:31804-1726768800-1726776000@sigtunastiftelsen.se
SUMMARY:Sigtunaförfattare - Alva Dahl om Gunnel Vallquist
DESCRIPTION:Författaren\, översättaren och akademiledamoten Gunnel Vallquist (1918-2016) gjorde sig ett namn i offentligheten dels som översättare av Marcel Prousts På spaning efter den tid som flytt – ett arbete som tog henne mer än trettio år\, bland annat på Sigtunastiftelsen – och dels som essäist och debattör i kyrkliga frågor. Hon satte tidigt upp stränga principer för bildning och livsföring\, sökte sina andliga rötter i Frankrike\, Italien och Ryssland när de svenska tankefållorna blev för trånga och förstod att det mest avgörande var att lära sig bejaka tillvarons paradoxer. Gunnel Vallquist bodde länge i en ekumenisk fredskommunitet utanför Rimbo och arbetade gärna och deltog i de ekumeniska programmen på Sigtunastiftelsen\, bland annat i kristen djupmeditation. Alva Dahl har ägnat mycket tid år Gunnel Vallquist – framförallt genom den uppmärksammade biografin Slå rot i förvandlingen från 2021\, där hon följer de litterära\, teologiska och livspraktiska trådarna i en komplex människas liv och breddar därmed bilden av det svenska 1900-talets kulturliv. \n18.00 Föredrag om boken \n19.00 Bar och mingel \n19.30 Publikt samtal \n
URL:https://sigtunastiftelsen.se/events/sigtunaforfattare-sla-rot-i-forvandlingen-alva-dahl-om-gunnel-vallquist/
LOCATION:Sigtunastiftelsen\, Manfred Björkquists allé 4\, Sigtuna\, Sigtuna\, 193 31
ATTACH;FMTTYPE=image/jpeg:https://sigtunastiftelsen.se/wp-content/uploads/2024/07/dahl-sla-rot-i-forvandlingen-proust-omslag.250.jpg
ORGANIZER;CN="Sigtunastiftelsen":MAILTO:info@sigtunastiftelsen.se
END:VEVENT
END:VCALENDAR