BEGIN:VCALENDAR
VERSION:2.0
PRODID:-//Sigtunastiftelsen - ECPv4.6.25//NONSGML v1.0//EN
CALSCALE:GREGORIAN
METHOD:PUBLISH
X-WR-CALNAME:Sigtunastiftelsen
X-ORIGINAL-URL:https://sigtunastiftelsen.se
X-WR-CALDESC:Events for Sigtunastiftelsen
BEGIN:VEVENT
DTSTART;TZID=UTC+1:20250411T170000
DTEND;TZID=UTC+1:20250413T150000
DTSTAMP:20260422T231208
CREATED:20241216T102509Z
LAST-MODIFIED:20251212T131542Z
UID:35400-1744390800-1744556400@sigtunastiftelsen.se
SUMMARY:Skrivarkurs - Att skriva sin själ
DESCRIPTION:Att hitta ett språk för det innersta är nödvändigt och lockande för många\, men processen väcker ofta frågor: Hur ska jag våga öppna mitt innersta för läsare jag inte känner? Vem ska läsa det jag skriver och varför? Hur gör jag rent tekniskt för att nå fram till det jag vill uttrycka? Under ett par dagar i retreatmiljö får du handledning i skrivandet av Maria Küchen\, författare och skribent och Kerstin Dillmar\, kaplan på Sigtunastiftelsen och författare. \n
URL:https://sigtunastiftelsen.se/events/skrivarkurs-att-skriva-sin-sjal/
LOCATION:Sigtunastiftelsen\, Manfred Björkquists allé 4\, Sigtuna\, Sigtuna\, 193 31
CATEGORIES:Seminarier & Kurser
ATTACH;FMTTYPE=image/jpeg:https://sigtunastiftelsen.se/wp-content/uploads/2018/12/Refugiet250x165.jpg
ORGANIZER;CN="Sigtunastiftelsen":MAILTO:info@sigtunastiftelsen.se
END:VEVENT
END:VCALENDAR