BEGIN:VCALENDAR
VERSION:2.0
PRODID:-//Sigtunastiftelsen - ECPv4.6.25//NONSGML v1.0//EN
CALSCALE:GREGORIAN
METHOD:PUBLISH
X-WR-CALNAME:Sigtunastiftelsen
X-ORIGINAL-URL:https://sigtunastiftelsen.se
X-WR-CALDESC:Events for Sigtunastiftelsen
BEGIN:VEVENT
DTSTART;TZID=UTC+1:20190407T180000
DTEND;TZID=UTC+1:20190407T190000
DTSTAMP:20260423T090642
CREATED:20190108T130927Z
LAST-MODIFIED:20190423T080234Z
UID:3961-1554660000-1554663600@sigtunastiftelsen.se
SUMMARY:Spelar det någon roll vad vi tror på?
DESCRIPTION:Varmt välkommen till en öppen samtalskväll med Sigtunastiftelsens kaplan Lars Björklund. Denna kväll är temat tro och tillit. Lars Björklund inleder samtalet och vi bjuder på enklare förtäring efteråt. Lokal: Sällskapsvåningen. \n
URL:https://sigtunastiftelsen.se/events/spelar-det-nagon-roll-vad-vi-tror-pa/
LOCATION:Sigtunastiftelsen\, Manfred Björkquists allé 4\, Sigtuna\, Sigtuna\, 193 31
CATEGORIES:Retreater & Samtal
ATTACH;FMTTYPE=image/jpeg:https://sigtunastiftelsen.se/wp-content/uploads/2019/01/LarsB250x165.jpg
ORGANIZER;CN="Sigtunastiftelsen":MAILTO:info@sigtunastiftelsen.se
END:VEVENT
END:VCALENDAR