BEGIN:VCALENDAR
VERSION:2.0
PRODID:-//Sigtunastiftelsen - ECPv4.6.25//NONSGML v1.0//EN
CALSCALE:GREGORIAN
METHOD:PUBLISH
X-WR-CALNAME:Sigtunastiftelsen
X-ORIGINAL-URL:https://sigtunastiftelsen.se
X-WR-CALDESC:Events for Sigtunastiftelsen
BEGIN:VEVENT
DTSTART;TZID=UTC+1:20191012T133000
DTEND;TZID=UTC+1:20191012T153000
DTSTAMP:20260420T142659
CREATED:20190708T114738Z
LAST-MODIFIED:20191014T084305Z
UID:6624-1570887000-1570894200@sigtunastiftelsen.se
SUMMARY:Tro på vetenskap eller tro med vetenskap?
DESCRIPTION:Vad innebär det att vara hängiven och intellektuellt redlig forskare liksom religiöst troende på en och samma gång? Och vad har det för betydelse i ett bredare mänskligt perspektiv? Medverkande i detta öppna seminarium är Andrew Briggs\, fysikprofessor i nanomaterialvetenskap vid University of Oxford\, som tar utgångspunkt från sin senaste bok “It Keeps Me Seeking: The Invitation from Science\, Philosophy\, and Religion”\, Oxford University Press 2018. \nSeminariet hålls på engelska. Seminariet är gratis och den som önskar kan förboka lunch för 170 kr i samband med anmälan. \nI samverkan med Kristen i Akademin \n
URL:https://sigtunastiftelsen.se/events/tro-pa-vetenskap-eller-tro-med-vetenskap/
LOCATION:Sigtunastiftelsen\, Manfred Björkquists allé 4\, Sigtuna\, Sigtuna\, 193 31
ATTACH;FMTTYPE=image/jpeg:https://sigtunastiftelsen.se/wp-content/uploads/2019/07/briggsx250.jpg
ORGANIZER;CN="Sigtunastiftelsen":MAILTO:info@sigtunastiftelsen.se
END:VEVENT
END:VCALENDAR