BEGIN:VCALENDAR
VERSION:2.0
PRODID:-//Sigtunastiftelsen - ECPv4.6.25//NONSGML v1.0//EN
CALSCALE:GREGORIAN
METHOD:PUBLISH
X-WR-CALNAME:Sigtunastiftelsen
X-ORIGINAL-URL:https://sigtunastiftelsen.se
X-WR-CALDESC:Events for Sigtunastiftelsen
BEGIN:VEVENT
DTSTART;TZID=UTC+1:20260604T090000
DTEND;TZID=UTC+1:20261009T170000
DTSTAMP:20260420T094524
CREATED:20251218T104050Z
LAST-MODIFIED:20260114T190128Z
UID:46909-1780563600-1791565200@sigtunastiftelsen.se
SUMMARY:Vadan och varthän – Hilding Linnqvist
DESCRIPTION:Vernissage torsdag 4 juni kl. 16.30-19 med föreläsning om Hilding Linnqvist av Susanna Slöör kl. 17. \nVälkommen till sommarens utställning med en av 1900-talets stora svenska målare\, Hilding Linnqvist. Utställningen tar sin utgångspunkt i konstnärens tidiga sökande under 1900-talets första decennier. Linnqvist arbetade under den tiden med motiv hämtade ur den närmaste omgivningen i Stockholms utkanter\, från sörmländska och uppländska kyrkor där han hade uppdrag som dekorationsmålare. Omkring samma tid grundades Sigtunastiftelsen där vi nu\, över hundra år senare\, får möta Hilding Linnqvists arbeten. \nVadan och varthän spänner bågen över livet\, över alla möjliga vägar mellan avstickare och livsval. Vi får följa konstnärens spår genom skisserna och de lösa teckningarna. Här finns herdar\, nymfer\, androgyner\, poesins veka hjältar och sagoberättare. Man kan säga att Hilding Linnqvist levde med konsten. Vart han än gick hade han ett skissblock i fickan. Redan från början hyllades han för sitt fria uttryckssätt och lät sig inte styras av några konventioner. Konstnärskollegan Sven X:et lär ha uttryckt det: ”FÅR man måla så?” Utställningen omfattar teckningar\, skisser\, laveringar och akvareller ur Hilding Linnqvist-stiftelsens arkiv som innehåller konstnärens efterlämnade samling. \nHilding Linnqvist (1891-1984) var bildkonstnär\, professor vid Konstakademin samt medlem i det konstnärsdrivna galleriet Färg och Form. Han var en mycket produktiv konstnär\, som hämtade inspiration från oskolade konstnärers naiva uttryckssätt såväl som från litterära källor som Carl Jonas Love Almqvists texter samt Erik Johan Stagnelius och Gustaf Frödings dikter. Han hade under sin livstid en lång rad större gestaltningsuppdrag\, som till exempel för KTH\, Sofia kyrka\, Skansen\, Kungliga Operan och Marabou chokladfabrik. \nVälkommen på vernissage den 4 juni kl. 16.30 – 19.00 med föreläsning om Hilding Linnqvist av Susanna Slöör kl. 17.00. \nSamverkan med Stiftelsen Hilding Linnqvists konst och dess ordförande\, konstnären och curatorn Susanna Slöör. \nStanna gärna på grillkväll i vår vackra Rosengård efter vernissagen. \nFörbokas separat. www.sigtunastiftelsen.se ”BOKA BORD” \n
URL:https://sigtunastiftelsen.se/events/vadan-och-varthan-hilding-linnqvist/
LOCATION:Sigtunastiftelsen\, Manfred Björkquists allé 4\, Sigtuna\, Sigtuna\, 193 31
CATEGORIES:Konst
ATTACH;FMTTYPE=image/jpeg:https://sigtunastiftelsen.se/wp-content/uploads/2025/12/1_HL-250.jpg
ORGANIZER;CN="Sigtunastiftelsen":MAILTO:info@sigtunastiftelsen.se
END:VEVENT
END:VCALENDAR