BEGIN:VCALENDAR
VERSION:2.0
PRODID:-//Sigtunastiftelsen - ECPv4.6.25//NONSGML v1.0//EN
CALSCALE:GREGORIAN
METHOD:PUBLISH
X-WR-CALNAME:Sigtunastiftelsen
X-ORIGINAL-URL:https://sigtunastiftelsen.se
X-WR-CALDESC:Events for Sigtunastiftelsen
BEGIN:VEVENT
DTSTART;TZID=UTC+1:20230415T133000
DTEND;TZID=UTC+1:20230415T150000
DTSTAMP:20260423T030624
CREATED:20230109T070014Z
LAST-MODIFIED:20230522T144901Z
UID:24669-1681565400-1681570800@sigtunastiftelsen.se
SUMMARY:Hur blir\, är\, och förblir man vis?
DESCRIPTION:Välkommen till ett panelsamtal om hur vishet kan förvärvas\, brukas\, förvaltas och gestaltas i allt från det egna livet till det stora samhällsperspektivet. \nMedverkande:\nNausikka Haupt\, handläggare för ekumenik Stockholms katolska stift\, aktiv i Focolare-rörelsen som bl.a driver Sophia-universitetet i Italien; Mikael Larsson\, universitetslektor i gamla testamentets exegetik\, Uppsala Universitet; Pekka Mellergård\, docent i neurokirurgi\, chefredaktör tidskriften NOD\, tidigare rektor Örebro Teologiska Högskola; Carl Stattin\, diakon Svenska kyrkan. Moderator: Kerstin Dillmar\, kaplan Sigtunastiftelsen \nSigtunastiftelsen i samverkan med Kristen i Akademin \n
URL:https://sigtunastiftelsen.se/events/vishetens-uttryck/
LOCATION:Sigtunastiftelsen\, Manfred Björkquists allé 4\, Sigtuna\, Sigtuna\, 193 31
CATEGORIES:Kultur & Bildning
ATTACH;FMTTYPE=image/jpeg:https://sigtunastiftelsen.se/wp-content/uploads/2018/07/Hartmanrefugietsofiajpg-250x165.jpg
ORGANIZER;CN="Sigtunastiftelsen":MAILTO:info@sigtunastiftelsen.se
END:VEVENT
END:VCALENDAR