BEGIN:VCALENDAR
VERSION:2.0
PRODID:-//Sigtunastiftelsen - ECPv4.6.25//NONSGML v1.0//EN
CALSCALE:GREGORIAN
METHOD:PUBLISH
X-WR-CALNAME:Sigtunastiftelsen
X-ORIGINAL-URL:https://sigtunastiftelsen.se
X-WR-CALDESC:Events for Sigtunastiftelsen
BEGIN:VEVENT
DTSTART;VALUE=DATE:20241202
DTEND;VALUE=DATE:20241220
DTSTAMP:20260422T210014
CREATED:20230707T104614Z
LAST-MODIFIED:20241219T113802Z
UID:27273-1733097600-1734652799@sigtunastiftelsen.se
SUMMARY:Visning av Abrahams Barns Julkrubba
DESCRIPTION:Abrahams Barns Julkrubba är unik; den berättar om Jesu födelse enligt de texter som finns att läsa i både Bibeln och Koranen. Julkrubban visas för grupper från skola och förskola\, i syfte att erbjuda barn\, ungdomar – och vuxna – ett tankeväckande och gränsöverskridande möte. \nEn visning i Sigtunastiftelsens bibliotek är gratis och tar ca 30 minuter. \nFör vuxengrupper skräddarsys visningen utifrån intresse och behov. \nBokning av visning: elisabet.mattizon-armgard@sigtunastiftelsen.se; 08-592 589 98 \n
URL:https://sigtunastiftelsen.se/events/visning-av-abrahams-barns-julkrubba-2/
LOCATION:Sigtunastiftelsen\, Manfred Björkquists allé 4\, Sigtuna\, Sigtuna\, 193 31
CATEGORIES:Kultur & Bildning
ATTACH;FMTTYPE=image/jpeg:https://sigtunastiftelsen.se/wp-content/uploads/2023/07/Abrahams-Barns-Julkrubba-pa-Sigtunastiftelsen-scaled.jpg
ORGANIZER;CN="Sigtunastiftelsen%20Evenemang":MAILTO:program@sigtunastiftelsen.se
END:VEVENT
END:VCALENDAR