BEGIN:VCALENDAR
VERSION:2.0
PRODID:-//Sigtunastiftelsen - ECPv4.6.25//NONSGML v1.0//EN
CALSCALE:GREGORIAN
METHOD:PUBLISH
X-WR-CALNAME:Sigtunastiftelsen
X-ORIGINAL-URL:https://sigtunastiftelsen.se
X-WR-CALDESC:Events for Sigtunastiftelsen
BEGIN:VEVENT
DTSTART;TZID=UTC+1:20220325T163000
DTEND;TZID=UTC+1:20220326T110000
DTSTAMP:20260425T103808
CREATED:20210825T094143Z
LAST-MODIFIED:20220509T075627Z
UID:17527-1648225800-1648292400@sigtunastiftelsen.se
SUMMARY:Yogaweekend på Sigtunastiftelsen (FULLBOKAD)
DESCRIPTION:Unna dig en paus i vardagen och hitta lugnet på en av Sveriges vackraste platser. Spendera en helg på Sigtunastiftelsen beläget i historiska Sigtuna. Barbora Furskog\, legitimerad och erfaren yogalärare\, guidar dig i balansen mellan dynamisk och lugnande yoga\, meditation och andningsövningar. \nSigtunastiftelsens kök har specialkomponerat rätter gjorda av ekologiska och närproducerade råvaror för att ytterligare främja helhetsupplevelsen. Individuella kostbehov finns tillgängliga på begäran\, vänligen informera oss i förväg. Under vistelsen får du möjlighet att njuta av Sigtunastiftelsens labyrintiska byggnad. Du kan även passa på att koppla av i hotellets bastu eller promenera i den vackra omgivningen. \nAlla är välkomna\, nybörjare såväl som avancerade yogautövare. Grundläggande fysisk kondition är dock nödvändig för yoga-klasserna. \nGruppen kommer vara liten\, max 10 deltagare + instruktör\, perfekt för att kunna fördjupa sig i sin träning. \nAlla lektioner hålls på engelska. \nI paketet ingår:\n* 1 st eftermiddagskaffe\n* 1 st 2-rätters middag\n* tillgång till vår bastu\n* 1 st natt i våra personligt inredda rum \n* 1 st lyxig frukostbuffé\n* 2 Yogaklasser\n* 1 Meditation \nVi följer givetvis Folkhälsomyndighetens rekommendationer gällande COVID-19. \n  \nVarmt välkomna till en härlig yogaweekend på Sigtunastiftelsen! \n\nPaketet inkluderar\n\n\n  Yoga och meditation\n  Frukost\n  Eftermiddagskaffe\n  2-rätters middag\n\n
URL:https://sigtunastiftelsen.se/events/yogaweekend-pa-sigtunastiftelsen/
LOCATION:Sigtunastiftelsen\, Manfred Björkquists allé 4\, Sigtuna\, Sigtuna\, 193 31
CATEGORIES:Hotell
ATTACH;FMTTYPE=image/jpeg:https://sigtunastiftelsen.se/wp-content/uploads/2020/09/yoga250x165.jpg
ORGANIZER;CN="Sigtunastiftelsen":MAILTO:info@sigtunastiftelsen.se
END:VEVENT
END:VCALENDAR